BEGIN:VCALENDAR
VERSION:2.0
PRODID:icalendar-ruby
CALSCALE:GREGORIAN
METHOD:PUBLISH
BEGIN:VEVENT
DTSTAMP:20260423T095405Z
UID:18-907262@pembrokeworshipcenter.com
DTSTART:20260913T183000Z
DTEND:20260913T200000Z
CLASS:PUBLIC
CREATED:20260422T192513
DESCRIPTION:
LAST-MODIFIED:20260422T192513
LOCATION:
SUMMARY:Sunday Morning Worship
URL;VALUE=URI:https://www.pembrokeworshipcenter.com/events/sunday-morning-w
 orship/2026-09-13
END:VEVENT
END:VCALENDAR
