BEGIN:VCALENDAR
VERSION:2.0
PRODID:icalendar-ruby
CALSCALE:GREGORIAN
METHOD:PUBLISH
BEGIN:VEVENT
DTSTAMP:20260423T113619Z
UID:18-907263@pembrokeworshipcenter.com
DTSTART:20260920T183000Z
DTEND:20260920T200000Z
CLASS:PUBLIC
CREATED:20260422T192513
DESCRIPTION:
LAST-MODIFIED:20260422T192513
LOCATION:
SUMMARY:Sunday Morning Worship
URL;VALUE=URI:https://www.pembrokeworshipcenter.com/events/sunday-morning-w
 orship/2026-09-20
END:VEVENT
END:VCALENDAR
