BEGIN:VCALENDAR
VERSION:2.0
PRODID:icalendar-ruby
CALSCALE:GREGORIAN
METHOD:PUBLISH
BEGIN:VEVENT
DTSTAMP:20260423T130440Z
UID:18-907506@pembrokeworshipcenter.com
DTSTART:20260927T183000Z
DTEND:20260927T200000Z
CLASS:PUBLIC
CREATED:20260423T045512
DESCRIPTION:
LAST-MODIFIED:20260423T045512
LOCATION:
SUMMARY:Sunday Morning Worship
URL;VALUE=URI:https://www.pembrokeworshipcenter.com/events/sunday-morning-w
 orship/2026-09-27
END:VEVENT
END:VCALENDAR
