BEGIN:VCALENDAR
VERSION:2.0
PRODID:icalendar-ruby
CALSCALE:GREGORIAN
METHOD:PUBLISH
BEGIN:VEVENT
DTSTAMP:20260423T144324Z
UID:18-907507@pembrokeworshipcenter.com
DTSTART:20261004T183000Z
DTEND:20261004T200000Z
CLASS:PUBLIC
CREATED:20260423T045512
DESCRIPTION:
LAST-MODIFIED:20260423T045512
LOCATION:
SUMMARY:Sunday Morning Worship
URL;VALUE=URI:https://www.pembrokeworshipcenter.com/events/sunday-morning-w
 orship/2026-10-04
END:VEVENT
END:VCALENDAR
