BEGIN:VCALENDAR
VERSION:2.0
PRODID:icalendar-ruby
CALSCALE:GREGORIAN
METHOD:PUBLISH
BEGIN:VEVENT
DTSTAMP:20260423T162536Z
UID:18-907751@pembrokeworshipcenter.com
DTSTART:20261011T183000Z
DTEND:20261011T200000Z
CLASS:PUBLIC
CREATED:20260423T074821
DESCRIPTION:
LAST-MODIFIED:20260423T074821
LOCATION:
SUMMARY:Sunday Morning Worship
URL;VALUE=URI:https://www.pembrokeworshipcenter.com/events/sunday-morning-w
 orship/2026-10-11
END:VEVENT
END:VCALENDAR
