BEGIN:VCALENDAR
VERSION:2.0
PRODID:icalendar-ruby
CALSCALE:GREGORIAN
METHOD:PUBLISH
BEGIN:VEVENT
DTSTAMP:20260423T192729Z
UID:18-907996@pembrokeworshipcenter.com
DTSTART:20261025T183000Z
DTEND:20261025T200000Z
CLASS:PUBLIC
CREATED:20260423T104354
DESCRIPTION:
LAST-MODIFIED:20260423T104354
LOCATION:
SUMMARY:Sunday Morning Worship
URL;VALUE=URI:https://www.pembrokeworshipcenter.com/events/sunday-morning-w
 orship/2026-10-25
END:VEVENT
END:VCALENDAR
