BEGIN:VCALENDAR
VERSION:2.0
PRODID:icalendar-ruby
CALSCALE:GREGORIAN
METHOD:PUBLISH
BEGIN:VEVENT
DTSTAMP:20260423T210538Z
UID:18-908240@pembrokeworshipcenter.com
DTSTART:20261101T193000Z
DTEND:20261101T210000Z
CLASS:PUBLIC
CREATED:20260423T133941
DESCRIPTION:
LAST-MODIFIED:20260423T133941
LOCATION:
SUMMARY:Sunday Morning Worship
URL;VALUE=URI:https://www.pembrokeworshipcenter.com/events/sunday-morning-w
 orship/2026-11-01
END:VEVENT
END:VCALENDAR
