BEGIN:VCALENDAR
VERSION:2.0
PRODID:icalendar-ruby
CALSCALE:GREGORIAN
METHOD:PUBLISH
BEGIN:VEVENT
DTSTAMP:20260423T175826Z
UID:20-908071@pembrokeworshipcenter.com
DTSTART:20260917T020000Z
DTEND:20260917T033000Z
CLASS:PUBLIC
CREATED:20260423T104354
DESCRIPTION:
LAST-MODIFIED:20260423T104354
LOCATION:
SUMMARY:Wednesday Night Bible Study
URL;VALUE=URI:https://www.pembrokeworshipcenter.com/events/wednesday-night-
 bible-study/2026-09-16
END:VEVENT
END:VCALENDAR
