BEGIN:VCALENDAR
VERSION:2.0
PRODID:icalendar-ruby
CALSCALE:GREGORIAN
METHOD:PUBLISH
BEGIN:VEVENT
DTSTAMP:20260423T193554Z
UID:20-908072@pembrokeworshipcenter.com
DTSTART:20260924T020000Z
DTEND:20260924T033000Z
CLASS:PUBLIC
CREATED:20260423T104354
DESCRIPTION:
LAST-MODIFIED:20260423T104354
LOCATION:
SUMMARY:Wednesday Night Bible Study
URL;VALUE=URI:https://www.pembrokeworshipcenter.com/events/wednesday-night-
 bible-study/2026-09-23
END:VEVENT
END:VCALENDAR
