BEGIN:VCALENDAR
VERSION:2.0
PRODID:icalendar-ruby
CALSCALE:GREGORIAN
METHOD:PUBLISH
BEGIN:VEVENT
DTSTAMP:20260423T205210Z
UID:20-908316@pembrokeworshipcenter.com
DTSTART:20261001T020000Z
DTEND:20261001T033000Z
CLASS:PUBLIC
CREATED:20260423T133941
DESCRIPTION:
LAST-MODIFIED:20260423T133941
LOCATION:
SUMMARY:Wednesday Night Bible Study
URL;VALUE=URI:https://www.pembrokeworshipcenter.com/events/wednesday-night-
 bible-study/2026-09-30
END:VEVENT
END:VCALENDAR
