BEGIN:VCALENDAR
VERSION:2.0
PRODID:icalendar-ruby
CALSCALE:GREGORIAN
METHOD:PUBLISH
BEGIN:VEVENT
DTSTAMP:20260424T002105Z
UID:20-908561@pembrokeworshipcenter.com
DTSTART:20261015T020000Z
DTEND:20261015T033000Z
CLASS:PUBLIC
CREATED:20260423T163320
DESCRIPTION:
LAST-MODIFIED:20260423T163320
LOCATION:
SUMMARY:Wednesday Night Bible Study
URL;VALUE=URI:https://www.pembrokeworshipcenter.com/events/wednesday-night-
 bible-study/2026-10-14
END:VEVENT
END:VCALENDAR
