BEGIN:VCALENDAR
VERSION:2.0
PRODID:icalendar-ruby
CALSCALE:GREGORIAN
METHOD:PUBLISH
BEGIN:VEVENT
DTSTAMP:20260424T021431Z
UID:20-908562@pembrokeworshipcenter.com
DTSTART:20261022T020000Z
DTEND:20261022T033000Z
CLASS:PUBLIC
CREATED:20260423T163320
DESCRIPTION:
LAST-MODIFIED:20260423T163320
LOCATION:
SUMMARY:Wednesday Night Bible Study
URL;VALUE=URI:https://www.pembrokeworshipcenter.com/events/wednesday-night-
 bible-study/2026-10-21
END:VEVENT
END:VCALENDAR
