BEGIN:VCALENDAR
VERSION:2.0
PRODID:icalendar-ruby
CALSCALE:GREGORIAN
METHOD:PUBLISH
BEGIN:VEVENT
DTSTAMP:20260424T040740Z
UID:20-908806@pembrokeworshipcenter.com
DTSTART:20261029T020000Z
DTEND:20261029T033000Z
CLASS:PUBLIC
CREATED:20260423T192723
DESCRIPTION:
LAST-MODIFIED:20260423T192723
LOCATION:
SUMMARY:Wednesday Night Bible Study
URL;VALUE=URI:https://www.pembrokeworshipcenter.com/events/wednesday-night-
 bible-study/2026-10-28
END:VEVENT
END:VCALENDAR
