BEGIN:VCALENDAR
VERSION:2.0
PRODID:icalendar-ruby
CALSCALE:GREGORIAN
METHOD:PUBLISH
BEGIN:VEVENT
DTSTAMP:20260424T054114Z
UID:20-908807@pembrokeworshipcenter.com
DTSTART:20261105T030000Z
DTEND:20261105T043000Z
CLASS:PUBLIC
CREATED:20260423T192723
DESCRIPTION:
LAST-MODIFIED:20260423T192723
LOCATION:
SUMMARY:Wednesday Night Bible Study
URL;VALUE=URI:https://www.pembrokeworshipcenter.com/events/wednesday-night-
 bible-study/2026-11-04
END:VEVENT
END:VCALENDAR
